0.084677944133
0.000000000000
0.000000000000
-0.084675236893
6434513.143173279241
5735042.568686587736
