0.084675881878
0.000000000000
0.000000000000
-0.084695932426
6439352.281310296617
5737391.125362884253
