0.084686895897
0.000000000000
0.000000000000
-0.084686971322
6436397.025179211050
5739356.246542237699
