0.084693446176
0.000000000000
0.000000000000
-0.084675236893
6439811.334318277426
5735075.873148788698
