0.084677944133
0.000000000000
0.000000000000
-0.084675236893
6438146.595503330231
5734763.930229576305
