0.084711641877
0.000000000000
0.000000000000
-0.084678298887
6436988.893843062222
5736444.192189125344
