0.084667767317
0.000000000000
0.000000000000
-0.084675236893
6437832.614257876761
5738224.855449123308
