0.084674153732
0.000000000000
0.000000000000
-0.084675236893
6440580.532680590637
5734843.878093059175
