0.084672435449
0.000000000000
0.000000000000
-0.084671715539
6436907.573099923320
5736206.556871687062
