0.084683731840
0.000000000000
0.000000000000
-0.084674885269
6441473.670990668237
5740055.290687906556
